BEGIN:VCALENDAR
VERSION:2.0
PRODID:-//Yacht-Club Harkortsee - ECPv6.2.9//NONSGML v1.0//EN
CALSCALE:GREGORIAN
METHOD:PUBLISH
X-WR-CALNAME:Yacht-Club Harkortsee
X-ORIGINAL-URL:https://www.yachtclubharkortsee.de
X-WR-CALDESC:Veranstaltungen für Yacht-Club Harkortsee
REFRESH-INTERVAL;VALUE=DURATION:PT1H
X-Robots-Tag:noindex
X-PUBLISHED-TTL:PT1H
BEGIN:VTIMEZONE
TZID:Europe/Berlin
BEGIN:DAYLIGHT
TZOFFSETFROM:+0100
TZOFFSETTO:+0200
TZNAME:CEST
DTSTART:20250330T010000
END:DAYLIGHT
BEGIN:STANDARD
TZOFFSETFROM:+0200
TZOFFSETTO:+0100
TZNAME:CET
DTSTART:20251026T010000
END:STANDARD
END:VTIMEZONE
BEGIN:VEVENT
DTSTART;VALUE=DATE:20250614
DTEND;VALUE=DATE:20250615
DTSTAMP:20260424T023608
CREATED:20250201T113621Z
LAST-MODIFIED:20250610T194350Z
UID:2432-1749859200-1749945599@www.yachtclubharkortsee.de
SUMMARY:Sommerregatta Tag 1/2
DESCRIPTION:
URL:https://www.yachtclubharkortsee.de/termin/vereinsmeisterschaft-tag-1-2/
LOCATION:Yachtclub Harkortsee\, Baukey 1-5\, Hagen\, 58089\, Deutschland
END:VEVENT
BEGIN:VEVENT
DTSTART;VALUE=DATE:20250615
DTEND;VALUE=DATE:20250616
DTSTAMP:20260424T023608
CREATED:20250201T113656Z
LAST-MODIFIED:20250610T194431Z
UID:2434-1749945600-1750031999@www.yachtclubharkortsee.de
SUMMARY:Sommerregatta Tag 2/2
DESCRIPTION:
URL:https://www.yachtclubharkortsee.de/termin/vereinsmeisterschaft-tag-2-2/
LOCATION:Yachtclub Harkortsee\, Baukey 1-5\, Hagen\, 58089\, Deutschland
END:VEVENT
BEGIN:VEVENT
DTSTART;VALUE=DATE:20250621
DTEND;VALUE=DATE:20250622
DTSTAMP:20260424T023609
CREATED:20250201T113741Z
LAST-MODIFIED:20250613T204515Z
UID:2436-1750464000-1750550399@www.yachtclubharkortsee.de
SUMMARY:Stadt-Land-Ruhr Seeleuchten
DESCRIPTION:Weitere Infos zum Stadt-Land-Ruhr Seeleuchten 2025 hier!
URL:https://www.yachtclubharkortsee.de/termin/stadt-land-ruhr-seeleuchten-2/
LOCATION:Yachtclub Harkortsee\, Baukey 1-5\, Hagen\, 58089\, Deutschland
END:VEVENT
END:VCALENDAR