BEGIN:VCALENDAR
VERSION:2.0
PRODID:-//Yacht-Club Harkortsee - ECPv6.2.9//NONSGML v1.0//EN
CALSCALE:GREGORIAN
METHOD:PUBLISH
X-WR-CALNAME:Yacht-Club Harkortsee
X-ORIGINAL-URL:https://www.yachtclubharkortsee.de
X-WR-CALDESC:Veranstaltungen für Yacht-Club Harkortsee
REFRESH-INTERVAL;VALUE=DURATION:PT1H
X-Robots-Tag:noindex
X-PUBLISHED-TTL:PT1H
BEGIN:VTIMEZONE
TZID:Europe/Berlin
BEGIN:DAYLIGHT
TZOFFSETFROM:+0100
TZOFFSETTO:+0200
TZNAME:CEST
DTSTART:20260329T010000
END:DAYLIGHT
BEGIN:STANDARD
TZOFFSETFROM:+0200
TZOFFSETTO:+0100
TZNAME:CET
DTSTART:20261025T010000
END:STANDARD
END:VTIMEZONE
BEGIN:VEVENT
DTSTART;VALUE=DATE:20260425
DTEND;VALUE=DATE:20260426
DTSTAMP:20260421T115311
CREATED:20260218T153432Z
LAST-MODIFIED:20260421T094053Z
UID:2489-1777075200-1777161599@www.yachtclubharkortsee.de
SUMMARY:Herdecker Stadtmeister & Harkortseemeister 1. Teil
DESCRIPTION:Das Regattabüro öffnet ab 9.30 Uhr\, die Steuermannsbesprechung findet um 11.00 Uhr statt und der erste Start ist um 12.00 Uhr geplant. \nDie Regatta findet am Samstag\, dem 25.04.2026 statt!
URL:https://www.yachtclubharkortsee.de/termin/harkortseemeister-und-herdecker-stadtmeister-tag-1-2/
LOCATION:Segelverein-Herdecke-Ruhr (SHR)\, Seeweg 7\, Herdecke\, NRW\, 58313\, Deutschland
END:VEVENT
BEGIN:VEVENT
DTSTART;VALUE=DATE:20260509
DTEND;VALUE=DATE:20260510
DTSTAMP:20260421T115311
CREATED:20260218T153613Z
LAST-MODIFIED:20260218T155711Z
UID:2493-1778284800-1778371199@www.yachtclubharkortsee.de
SUMMARY:Mai Trophy (Tag 1/2)
DESCRIPTION:
URL:https://www.yachtclubharkortsee.de/termin/mai-trophy-tag-1-2/
LOCATION:Segelverein-Herdecke-Ruhr (SHR)\, Seeweg 7\, Herdecke\, NRW\, 58313\, Deutschland
END:VEVENT
BEGIN:VEVENT
DTSTART;VALUE=DATE:20260510
DTEND;VALUE=DATE:20260511
DTSTAMP:20260421T115311
CREATED:20260218T153649Z
LAST-MODIFIED:20260218T155730Z
UID:2495-1778371200-1778457599@www.yachtclubharkortsee.de
SUMMARY:Mai Trophy (Tag 2/2)
DESCRIPTION:
URL:https://www.yachtclubharkortsee.de/termin/mai-trophy-tag-2-2/
LOCATION:Segelverein-Herdecke-Ruhr (SHR)\, Seeweg 7\, Herdecke\, NRW\, 58313\, Deutschland
END:VEVENT
BEGIN:VEVENT
DTSTART;VALUE=DATE:20260530
DTEND;VALUE=DATE:20260531
DTSTAMP:20260421T115311
CREATED:20260218T153519Z
LAST-MODIFIED:20260218T155456Z
UID:2491-1780099200-1780185599@www.yachtclubharkortsee.de
SUMMARY:Hagener Stadtmeister & Harkortseemeister 2. Teil
DESCRIPTION:
URL:https://www.yachtclubharkortsee.de/termin/harkortseemeister-und-herdecker-stadtmeister-tag-2-2/
LOCATION:Yachtclub Harkortsee\, Baukey 1-5\, Hagen\, 58089\, Deutschland
END:VEVENT
BEGIN:VEVENT
DTSTART;VALUE=DATE:20260620
DTEND;VALUE=DATE:20260621
DTSTAMP:20260421T115311
CREATED:20260218T153818Z
LAST-MODIFIED:20260218T153818Z
UID:2497-1781913600-1781999999@www.yachtclubharkortsee.de
SUMMARY:Stadt-Land-Ruhr Seeleuchten
DESCRIPTION:
URL:https://www.yachtclubharkortsee.de/termin/stadt-land-ruhr-seeleuchten-3/
LOCATION:Yachtclub Harkortsee\, Baukey 1-5\, Hagen\, 58089\, Deutschland
END:VEVENT
BEGIN:VEVENT
DTSTART;VALUE=DATE:20260719
DTEND;VALUE=DATE:20260720
DTSTAMP:20260421T115311
CREATED:20260218T153856Z
LAST-MODIFIED:20260218T153856Z
UID:2499-1784419200-1784505599@www.yachtclubharkortsee.de
SUMMARY:Piratenfest
DESCRIPTION:
URL:https://www.yachtclubharkortsee.de/termin/piratenfest-3/
LOCATION:Yachtclub Harkortsee\, Baukey 1-5\, Hagen\, 58089\, Deutschland
END:VEVENT
BEGIN:VEVENT
DTSTART;VALUE=DATE:20260720
DTEND;VALUE=DATE:20260725
DTSTAMP:20260421T115311
CREATED:20260218T153952Z
LAST-MODIFIED:20260218T153952Z
UID:2501-1784505600-1784937599@www.yachtclubharkortsee.de
SUMMARY:Kinderfreizeit
DESCRIPTION:
URL:https://www.yachtclubharkortsee.de/termin/kinderfreizeit-3/
LOCATION:Yachtclub Harkortsee\, Baukey 1-5\, Hagen\, 58089\, Deutschland
END:VEVENT
BEGIN:VEVENT
DTSTART;VALUE=DATE:20260913
DTEND;VALUE=DATE:20260914
DTSTAMP:20260421T115311
CREATED:20260218T154033Z
LAST-MODIFIED:20260218T154033Z
UID:2503-1789257600-1789343999@www.yachtclubharkortsee.de
SUMMARY:Calvados Cup
DESCRIPTION:
URL:https://www.yachtclubharkortsee.de/termin/calvados-cup-3/
LOCATION:Yachtclub Harkortsee\, Baukey 1-5\, Hagen\, 58089\, Deutschland
END:VEVENT
BEGIN:VEVENT
DTSTART;VALUE=DATE:20261011
DTEND;VALUE=DATE:20261012
DTSTAMP:20260421T115311
CREATED:20260218T154111Z
LAST-MODIFIED:20260218T154111Z
UID:2505-1791676800-1791763199@www.yachtclubharkortsee.de
SUMMARY:Herbstregatta
DESCRIPTION:
URL:https://www.yachtclubharkortsee.de/termin/herbstregatta-2/
LOCATION:Yachtclub Harkortsee\, Baukey 1-5\, Hagen\, 58089\, Deutschland
END:VEVENT
BEGIN:VEVENT
DTSTART;VALUE=DATE:20261107
DTEND;VALUE=DATE:20261108
DTSTAMP:20260421T115311
CREATED:20260218T154156Z
LAST-MODIFIED:20260218T154156Z
UID:2507-1794009600-1794095999@www.yachtclubharkortsee.de
SUMMARY:Stegabbau+Krantermin
DESCRIPTION:
URL:https://www.yachtclubharkortsee.de/termin/stegabbaukrantermin/
LOCATION:Yachtclub Harkortsee\, Baukey 1-5\, Hagen\, 58089\, Deutschland
END:VEVENT
BEGIN:VEVENT
DTSTART;VALUE=DATE:20261115
DTEND;VALUE=DATE:20261116
DTSTAMP:20260421T115311
CREATED:20260218T154244Z
LAST-MODIFIED:20260218T154244Z
UID:2509-1794700800-1794787199@www.yachtclubharkortsee.de
SUMMARY:Alle Boote müssen aus dem Wasser sein
DESCRIPTION:
URL:https://www.yachtclubharkortsee.de/termin/alle-boote-muessen-aus-dem-wasser-sein-3/
LOCATION:Yachtclub Harkortsee\, Baukey 1-5\, Hagen\, 58089\, Deutschland
END:VEVENT
BEGIN:VEVENT
DTSTART;VALUE=DATE:20261206
DTEND;VALUE=DATE:20261207
DTSTAMP:20260421T115311
CREATED:20260218T154330Z
LAST-MODIFIED:20260218T154330Z
UID:2511-1796515200-1796601599@www.yachtclubharkortsee.de
SUMMARY:Nikolausfeier
DESCRIPTION:
URL:https://www.yachtclubharkortsee.de/termin/nikolausfeier-2/
LOCATION:Yachtclub Harkortsee\, Baukey 1-5\, Hagen\, 58089\, Deutschland
END:VEVENT
END:VCALENDAR