BEGIN:VCALENDAR
VERSION:2.0
PRODID:-//Yacht-Club Harkortsee - ECPv6.2.9//NONSGML v1.0//EN
CALSCALE:GREGORIAN
METHOD:PUBLISH
X-WR-CALNAME:Yacht-Club Harkortsee
X-ORIGINAL-URL:https://www.yachtclubharkortsee.de
X-WR-CALDESC:Veranstaltungen für Yacht-Club Harkortsee
REFRESH-INTERVAL;VALUE=DURATION:PT1H
X-Robots-Tag:noindex
X-PUBLISHED-TTL:PT1H
BEGIN:VTIMEZONE
TZID:Europe/Berlin
BEGIN:DAYLIGHT
TZOFFSETFROM:+0100
TZOFFSETTO:+0200
TZNAME:CEST
DTSTART:20260329T010000
END:DAYLIGHT
BEGIN:STANDARD
TZOFFSETFROM:+0200
TZOFFSETTO:+0100
TZNAME:CET
DTSTART:20261025T010000
END:STANDARD
END:VTIMEZONE
BEGIN:VEVENT
DTSTART;TZID=Europe/Berlin:20260306T190000
DTEND;TZID=Europe/Berlin:20260306T220000
DTSTAMP:20260423T133411
CREATED:20260218T153012Z
LAST-MODIFIED:20260220T123922Z
UID:2480-1772823600-1772834400@www.yachtclubharkortsee.de
SUMMARY:Jahreshauptversammlung
DESCRIPTION:Satzungsgemäß gestellte Anträge: \nMitgliederversammlung_2026_Antraege_01
URL:https://www.yachtclubharkortsee.de/termin/jahreshauptversammlung-3/
LOCATION:Yachtclub Harkortsee\, Baukey 1-5\, Hagen\, 58089\, Deutschland
END:VEVENT
END:VCALENDAR