BEGIN:VCALENDAR
VERSION:2.0
PRODID:-//Yacht-Club Harkortsee - ECPv6.2.9//NONSGML v1.0//EN
CALSCALE:GREGORIAN
METHOD:PUBLISH
X-WR-CALNAME:Yacht-Club Harkortsee
X-ORIGINAL-URL:https://www.yachtclubharkortsee.de
X-WR-CALDESC:Veranstaltungen für Yacht-Club Harkortsee
REFRESH-INTERVAL;VALUE=DURATION:PT1H
X-Robots-Tag:noindex
X-PUBLISHED-TTL:PT1H
BEGIN:VTIMEZONE

END:VTIMEZONE
BEGIN:VEVENT
DTSTART;TZID=Europe/Berlin:19700101T010000
DTEND;TZID=Europe/Berlin:20150708T200000
DTSTAMP:20260422T204211
CREATED:20150504T074121Z
LAST-MODIFIED:20160201T185736Z
UID:359-3600-1436385600@www.yachtclubharkortsee.de
SUMMARY:Ausbildung VDS Grundschein (Theorie)
DESCRIPTION:Segelschein–Ausbildung inclusive  der entsprechenden Prüfung. Ausgebildet wird\, wie gehabt\, nach den Richtlinien des Verbandes deutscher Wassersport-Schulen. \nDie Ausbildung liegt in den bewährten Händen unseres Segellehrers und Clubkameraden Ernst Günter Loers. \nDer YCH bietet somit allen Mitgliedern an\, den erforderlichen Schein zu erwerben\, der auch aus versicherungsrelevanten Gründen erforderlich ist\, Clubboote auf dem Harkortsee zu segeln.
URL:https://www.yachtclubharkortsee.de/termin/ausbildung-vds-grundschein-theorie/
LOCATION:Yachtclub Harkortsee\, Baukey 1-5\, Hagen\, 58089\, Deutschland
CATEGORIES:intern
END:VEVENT
BEGIN:VEVENT
DTSTART;TZID=Europe/Berlin:20150418T123000
DTEND;TZID=Europe/Berlin:20150419T170000
DTSTAMP:20260422T204211
CREATED:20150410T103318Z
LAST-MODIFIED:20150504T074707Z
UID:272-1429360200-1429462800@www.yachtclubharkortsee.de
SUMMARY:Ansegeln am 18. / 19. April 2015
DESCRIPTION:Liebe aktive Seglerinnen und Segler\, \nwir möchten nochmals zeitnah auf unser Ansegeln und die damit verbundenen Regatten hinweisen. Clubregatten machen nur einen sportlichen Sinn\, wenn das gesamte Bootspotential unseres YCH für solche Wettfahrten auch genutzt wird. \nDeshalb nochmals unsere Bitte und Aufforderung: Segelt mit\, Boote haben wir genug! \nHier nochmals die Eckdaten: \n\nSamstag\, den 18.04:\n12:30 Eröffnung Regatta-Büro\n13:30 Steuermannsbesprechung\n14:00 Start 1. Wettfahrt ( Optis 14:15)\nMeldeschluss ist 45 Min. vor Start\n\nSonntag\, den 19.04: \n\n10:00 Eröffnung Regatta – Büro\n10:30 Steuermannsbesprechung\n11:00 Start 2. Wettfahrt ( Optis 11:15)\n14:00 Start 3. Wettfahrt ( Optis 14:15 alternativ)\n16:30 Siegerehrung\n\nStartgelder pro Person (incl. 5 Euro Verzehrmarke): \n\nErwachsene 10\,00 Euro\nJugendliche   7\,50 Euro\nOptis              5\,00 Euro\n\nDie Regattaleitung bittet die  Regatta-Teilnehmer\, soweit möglich\, um Namensnennung\, Teilnehmer und Bootstyp schon  im Vorfeld an
URL:https://www.yachtclubharkortsee.de/termin/ansegeln-am-18-19-april-2015/
LOCATION:Yachtclub Harkortsee\, Baukey 1-5\, Hagen\, 58089\, Deutschland
CATEGORIES:Aktuelles
END:VEVENT
END:VCALENDAR